BEGIN:VCALENDAR
VERSION:2.0
PRODID:-//Sabre//Sabre VObject 4.5.8//EN
CALSCALE:GREGORIAN
BEGIN:VEVENT
UID:sabre-vobject-568e8f9d-b380-4e04-af1a-71c7f1a22ca1
DTSTAMP:20260421T084930Z
SUMMARY:Mensch sein/Christ sein heute
DESCRIPTION:https://keb-neuburg-schrobenhausen.de/mensch-sein-christ-sein-h
 eute_id245914
DTSTART;TZID=Europe/Berlin:20250318T133000
LOCATION:Pfarrheim Waidhofen\, Ringstraße 12\, 86579 Waidhofen
END:VEVENT
END:VCALENDAR
