BEGIN:VCALENDAR
VERSION:2.0
PRODID:-//Sabre//Sabre VObject 4.5.8//EN
CALSCALE:GREGORIAN
BEGIN:VEVENT
UID:sabre-vobject-de512e9a-0a21-4f32-9165-c6a927ba2fde
DTSTAMP:20260420T182423Z
SUMMARY:Selbstbestimmt in meine Kinderklinik
DESCRIPTION:https://keb-neuburg-schrobenhausen.de/selbstbestimmt-in-meine-k
 inderklinik_id295959
DTSTART;TZID=Europe/Berlin:20260521T173000
LOCATION:AMEOS Klinikum St. Elisabeth Neuburg\, Müller-Gnadenegg-Weg 4\, 8
 6633 Neuburg an der Donau
END:VEVENT
END:VCALENDAR
