BEGIN:VCALENDAR
VERSION:2.0
PRODID:-//Sabre//Sabre VObject 4.5.8//EN
CALSCALE:GREGORIAN
BEGIN:VEVENT
UID:sabre-vobject-e55a3748-1edb-4b16-b11f-6e3e82f896c1
DTSTAMP:20260424T143816Z
SUMMARY:Erste Hilfe Kurse
DESCRIPTION:https://keb-neuburg-schrobenhausen.de/erste-hilfe-kurse_id30997
 6
DTSTART;TZID=Europe/Berlin:20260425T083000
LOCATION:Augsburger Straße 18\; 86529 Schrobenhausen\, Augsburger Straße 
 18\, 86529 Schrobenhausen
END:VEVENT
END:VCALENDAR
