BEGIN:VCALENDAR
VERSION:2.0
PRODID:-//Sabre//Sabre VObject 4.5.8//EN
CALSCALE:GREGORIAN
BEGIN:VEVENT
UID:sabre-vobject-37941673-b1fc-44b5-9ad6-a801d2b904ef
DTSTAMP:20260424T173614Z
SUMMARY:Erste Hilfe Kurse
DESCRIPTION:https://keb-neuburg-schrobenhausen.de/erste-hilfe-kurse_id30997
 7
DTSTART;TZID=Europe/Berlin:20260518T083000
LOCATION:Augsburger Straße 18\; 86529 Schrobenhausen\, Augsburger Straße 
 18\, 86529 Schrobenhausen
END:VEVENT
END:VCALENDAR
