BEGIN:VCALENDAR
VERSION:2.0
PRODID:-//Sabre//Sabre VObject 4.5.8//EN
CALSCALE:GREGORIAN
BEGIN:VEVENT
UID:sabre-vobject-21bbb33e-5973-48a8-b6e0-dba93e282acb
DTSTAMP:20260424T173740Z
SUMMARY:Erste Hilfe Kurse
DESCRIPTION:https://keb-neuburg-schrobenhausen.de/erste-hilfe-kurse_id30997
 8
DTSTART;TZID=Europe/Berlin:20260718T083000
LOCATION:Augsburger Straße 18\; 86529 Schrobenhausen\, Augsburger Straße 
 18\, 86529 Schrobenhausen
END:VEVENT
END:VCALENDAR
