BEGIN:VCALENDAR
VERSION:2.0
PRODID:-//Sabre//Sabre VObject 4.5.8//EN
CALSCALE:GREGORIAN
BEGIN:VEVENT
UID:sabre-vobject-e2aee058-47ae-41d7-805d-2741b3b52649
DTSTAMP:20260424T173806Z
SUMMARY:Erste Hilfe Kurse
DESCRIPTION:https://keb-neuburg-schrobenhausen.de/erste-hilfe-kurse_id30997
 9
DTSTART;TZID=Europe/Berlin:20261012T083000
LOCATION:Augsburger Straße 18\; 86529 Schrobenhausen\, Augsburger Straße 
 18\, 86529 Schrobenhausen
END:VEVENT
END:VCALENDAR
