BEGIN:VCALENDAR
VERSION:2.0
PRODID:-//Sabre//Sabre VObject 4.5.8//EN
CALSCALE:GREGORIAN
BEGIN:VEVENT
UID:sabre-vobject-69e6d94e-79b6-4661-b576-dd424a7d1d7e
DTSTAMP:20260424T172840Z
SUMMARY:Erste Hilfe Kurse
DESCRIPTION:https://keb-neuburg-schrobenhausen.de/erste-hilfe-kurse_id30998
 0
DTSTART;TZID=Europe/Berlin:20261114T083000
LOCATION:Augsburger Straße 18\; 86529 Schrobenhausen\, Augsburger Straße 
 18\, 86529 Schrobenhausen
END:VEVENT
END:VCALENDAR
