BEGIN:VCALENDAR
VERSION:2.0
PRODID:-//Sabre//Sabre VObject 4.5.8//EN
CALSCALE:GREGORIAN
BEGIN:VEVENT
UID:sabre-vobject-748fb262-7b39-4f39-98f9-5b06eb3343ac
DTSTAMP:20260421T150250Z
SUMMARY:Handykurs für Senioren
DESCRIPTION:https://keb-neuburg-schrobenhausen.de/handykurs-fuer-senioren_i
 d310370
DTSTART;TZID=Europe/Berlin:20260520T140000
LOCATION:Maria-Ward-Realschule\, Spitalgasse 2\, 86529 Schrobenhausen
END:VEVENT
END:VCALENDAR
