BEGIN:VCALENDAR
VERSION:2.0
PRODID:-//Sabre//Sabre VObject 4.5.8//EN
CALSCALE:GREGORIAN
BEGIN:VEVENT
UID:sabre-vobject-f6592c9d-0795-400c-a91b-43135c44428d
DTSTAMP:20260421T114143Z
SUMMARY:Handykurs für Senioren
DESCRIPTION:https://keb-neuburg-schrobenhausen.de/handykurs-fuer-senioren_i
 d310376
DTSTART;TZID=Europe/Berlin:20260422T140000
LOCATION:Maria-Ward-Realschule\, Spitalgasse 2\, 86529 Schrobenhausen
END:VEVENT
END:VCALENDAR
