BEGIN:VCALENDAR
VERSION:2.0
PRODID:-//Sabre//Sabre VObject 4.5.8//EN
CALSCALE:GREGORIAN
BEGIN:VEVENT
UID:sabre-vobject-7e00c03a-52d0-4bd6-aaec-99a6453331d7
DTSTAMP:20260421T150255Z
SUMMARY:Handykurs für Senioren
DESCRIPTION:https://keb-neuburg-schrobenhausen.de/handykurs-fuer-senioren_i
 d310378
DTSTART;TZID=Europe/Berlin:20260708T140000
LOCATION:Maria-Ward-Realschule\, Spitalgasse 2\, 86529 Schrobenhausen
END:VEVENT
END:VCALENDAR
