BEGIN:VCALENDAR
VERSION:2.0
PRODID:-//Sabre//Sabre VObject 4.5.8//EN
CALSCALE:GREGORIAN
BEGIN:VEVENT
UID:sabre-vobject-2beeab1a-bcb7-49e0-aa9c-ccafd4435545
DTSTAMP:20260421T115242Z
SUMMARY:Französisch Kurs
DESCRIPTION:https://keb-neuburg-schrobenhausen.de/franzoesisch-kurs_id31049
 1
DTSTART;TZID=Europe/Berlin:20260421T091500
DTEND;TZID=Europe/Berlin:20260421T104500
LOCATION:Seniorenbeirat\, Lenbachstraße 32\, 86529 Schrobenhausen
END:VEVENT
END:VCALENDAR
