BEGIN:VCALENDAR
VERSION:2.0
PRODID:-//Sabre//Sabre VObject 4.5.8//EN
CALSCALE:GREGORIAN
BEGIN:VEVENT
UID:sabre-vobject-dc33236e-1473-4637-a811-cad326dbb147
DTSTAMP:20260420T103830Z
SUMMARY:Damengymnastik
DESCRIPTION:https://keb-neuburg-schrobenhausen.de/damengymnastik_id315338
DTSTART;TZID=Europe/Berlin:20260416T150000
DTEND;TZID=Europe/Berlin:20260416T160000
LOCATION:DJK - Langenmosen\, Sportplatzweg 1\, 86571 Langenmosen
END:VEVENT
END:VCALENDAR
