BEGIN:VCALENDAR
VERSION:2.0
PRODID:-//Sabre//Sabre VObject 4.5.8//EN
CALSCALE:GREGORIAN
BEGIN:VEVENT
UID:sabre-vobject-576c5153-2471-4ae8-abdd-75bcc9f023d8
DTSTAMP:20260423T150220Z
SUMMARY:Damengymnastik
DESCRIPTION:https://keb-neuburg-schrobenhausen.de/damengymnastik_id315339
DTSTART;TZID=Europe/Berlin:20260423T150000
DTEND;TZID=Europe/Berlin:20260423T160000
LOCATION:DJK - Langenmosen\, Sportplatzweg 1\, 86571 Langenmosen
END:VEVENT
END:VCALENDAR
