BEGIN:VCALENDAR
VERSION:2.0
PRODID:-//Sabre//Sabre VObject 4.5.8//EN
CALSCALE:GREGORIAN
BEGIN:VEVENT
UID:sabre-vobject-a34d1821-158f-4378-b296-519530f641f4
DTSTAMP:20260421T101531Z
SUMMARY:Damengymnastik für Seniorinnen
DESCRIPTION:https://keb-neuburg-schrobenhausen.de/damengymnastik-fuer-senio
 rinnen_id315483
DTSTART;TZID=Europe/Berlin:20260415T180000
DTEND;TZID=Europe/Berlin:20260415T191500
LOCATION:Deutsche Jugendkraft Sandizell\, Langenmosener Straße 4\, 86529 S
 chrobenhausen
END:VEVENT
END:VCALENDAR
