BEGIN:VCALENDAR
VERSION:2.0
PRODID:-//Sabre//Sabre VObject 4.5.8//EN
CALSCALE:GREGORIAN
BEGIN:VEVENT
UID:sabre-vobject-854d82f5-8871-4d6f-aea9-8d82c7ac5a5a
DTSTAMP:20260422T193816Z
SUMMARY:Damengymnastik für Seniorinnen
DESCRIPTION:https://keb-neuburg-schrobenhausen.de/damengymnastik-fuer-senio
 rinnen_id315484
DTSTART;TZID=Europe/Berlin:20260422T180000
DTEND;TZID=Europe/Berlin:20260422T191500
LOCATION:Deutsche Jugendkraft Sandizell\, Langenmosener Straße 4\, 86529 S
 chrobenhausen
END:VEVENT
END:VCALENDAR
