BEGIN:VCALENDAR
VERSION:2.0
PRODID:-//Sabre//Sabre VObject 4.5.8//EN
CALSCALE:GREGORIAN
BEGIN:VEVENT
UID:sabre-vobject-3e03cb5f-1638-43cc-8000-8d2a705d0a86
DTSTAMP:20260421T091757Z
SUMMARY:Förderprogramme für Gründerinnen und Gründer
DESCRIPTION:https://keb-neuburg-schrobenhausen.de/foerderprogramme-fuer-gru
 enderinnen-und-gruender_id318657
DTSTART;TZID=Europe/Berlin:20260423T160000
LOCATION:Das Otto - Der Kreativraum in Neuburg e.V.\, Schmidstraße 113\, 8
 6633 Neuburg an der Donau
END:VEVENT
END:VCALENDAR
