BEGIN:VCALENDAR
VERSION:2.0
PRODID:-//Sabre//Sabre VObject 4.5.8//EN
CALSCALE:GREGORIAN
BEGIN:VEVENT
UID:sabre-vobject-fff069f9-6f4f-42b7-9509-9629b26612b6
DTSTAMP:20260420T135450Z
SUMMARY:"Langer Atem - langes Leben"
DESCRIPTION:https://keb-neuburg-schrobenhausen.de/langer-atem-langes-leben_
 id318663
DTSTART;TZID=Europe/Berlin:20260423T180000
LOCATION:Pfarrsaal Hl. Geist\, Hirschenstraße 156\, 86633 Neuburg an der D
 onau
END:VEVENT
END:VCALENDAR
