BEGIN:VCALENDAR
VERSION:2.0
PRODID:-//Sabre//Sabre VObject 4.5.8//EN
CALSCALE:GREGORIAN
BEGIN:VEVENT
UID:sabre-vobject-da440063-51fc-45bf-8534-00b4d9b872c1
DTSTAMP:20260425T214137Z
SUMMARY:Studienreise nach Polen
DESCRIPTION:https://keb-neuburg-schrobenhausen.de/studienreise-nach-polen_i
 d318961
DTSTART;TZID=Europe/Berlin:20260518T080000
DTEND;TZID=Europe/Berlin:20260523T200000
LOCATION:Pfarrsaal\, Im Tal 9\, 86529 Schrobenhausen
END:VEVENT
END:VCALENDAR
