BEGIN:VCALENDAR
VERSION:2.0
PRODID:-//Sabre//Sabre VObject 4.5.8//EN
CALSCALE:GREGORIAN
BEGIN:VEVENT
UID:sabre-vobject-ff98f222-3470-4c1c-86b2-049d7b0bdd4b
DTSTAMP:20260421T191637Z
SUMMARY:Ehevorbereitung im Wasserschloss Sandizell
DESCRIPTION:https://keb-neuburg-schrobenhausen.de/ehevorbereitung-im-wasser
 schloss-sandizell_id319311
DTSTART;TZID=Europe/Berlin:20260621T090000
LOCATION:Wasserschloss Sandizell\, Schloßstraße 4\, 86529 Schrobenhausen
END:VEVENT
END:VCALENDAR
