BEGIN:VCALENDAR
VERSION:2.0
PRODID:-//Sabre//Sabre VObject 4.5.8//EN
CALSCALE:GREGORIAN
BEGIN:VEVENT
UID:sabre-vobject-248a7ab9-8324-4b7b-98c0-be9bcac8fc3f
DTSTAMP:20260424T145034Z
SUMMARY:Fit ohne Geräte
DESCRIPTION:https://keb-neuburg-schrobenhausen.de/fit-ohne-geraete_id319329
DTSTART;TZID=Europe/Berlin:20260424T190300
DTEND;TZID=Europe/Berlin:20260424T203000
LOCATION:DJK - Langenmosen\, Sportplatzweg 1\, 86571 Langenmosen
END:VEVENT
END:VCALENDAR
