BEGIN:VCALENDAR
VERSION:2.0
PRODID:-//Sabre//Sabre VObject 4.5.8//EN
CALSCALE:GREGORIAN
BEGIN:VEVENT
UID:sabre-vobject-faeab479-2dd0-4685-bf78-adeec2007a28
DTSTAMP:20260421T101726Z
SUMMARY:Treffen für pflegende Angehörige
DESCRIPTION:https://keb-neuburg-schrobenhausen.de/treffen-fuer-pflegende-an
 gehoerige_id321741
DTSTART;TZID=Europe/Berlin:20260415T193000
LOCATION:Kolpinghaus\, Gerolsbacher Straße 11\, 86529 Schrobenhausen
END:VEVENT
END:VCALENDAR
