BEGIN:VCALENDAR
VERSION:2.0
PRODID:-//Sabre//Sabre VObject 4.5.8//EN
CALSCALE:GREGORIAN
BEGIN:VEVENT
UID:sabre-vobject-75e13ba0-c7a1-442e-a4e1-e6bf1fec5ecc
DTSTAMP:20260420T200651Z
SUMMARY:Lebenscafe
DESCRIPTION:https://keb-neuburg-schrobenhausen.de/lebenscafe_id321851
DTSTART;TZID=Europe/Berlin:20260909T150000
LOCATION:Hospizverein Neuburg-Schrobenhausen e.V.\, Münchener Straße 15\,
  86633 Neuburg an der Donau
END:VEVENT
END:VCALENDAR
