BEGIN:VCALENDAR
VERSION:2.0
PRODID:-//Sabre//Sabre VObject 4.5.8//EN
CALSCALE:GREGORIAN
BEGIN:VEVENT
UID:sabre-vobject-12b9fcae-5c38-4bc7-9a04-5da1ac611748
DTSTAMP:20260420T200657Z
SUMMARY:Lebenscafe
DESCRIPTION:https://keb-neuburg-schrobenhausen.de/lebenscafe_id321852
DTSTART;TZID=Europe/Berlin:20261014T150000
LOCATION:Hospizverein Neuburg-Schrobenhausen e.V.\, Münchener Straße 15\,
  86633 Neuburg an der Donau
END:VEVENT
END:VCALENDAR
