BEGIN:VCALENDAR
VERSION:2.0
PRODID:-//Sabre//Sabre VObject 4.5.8//EN
CALSCALE:GREGORIAN
BEGIN:VEVENT
UID:sabre-vobject-b9f34597-c0b8-40c6-8a67-8ebaa89b6fb4
DTSTAMP:20260420T201647Z
SUMMARY:Lebenscafe
DESCRIPTION:https://keb-neuburg-schrobenhausen.de/lebenscafe_id321853
DTSTART;TZID=Europe/Berlin:20261111T150000
LOCATION:Hospizverein Neuburg-Schrobenhausen e.V.\, Münchener Straße 15\,
  86633 Neuburg an der Donau
END:VEVENT
END:VCALENDAR
