BEGIN:VCALENDAR
VERSION:2.0
PRODID:-//Sabre//Sabre VObject 4.5.8//EN
CALSCALE:GREGORIAN
BEGIN:VEVENT
UID:sabre-vobject-ea5e2c6a-5270-4a22-80b7-e796c580f42e
DTSTAMP:20260420T201534Z
SUMMARY:Lebenscafe
DESCRIPTION:https://keb-neuburg-schrobenhausen.de/lebenscafe_id321854
DTSTART;TZID=Europe/Berlin:20261209T150000
LOCATION:Hospizverein Neuburg-Schrobenhausen e.V.\, Münchener Straße 15\,
  86633 Neuburg an der Donau
END:VEVENT
END:VCALENDAR
