BEGIN:VCALENDAR
VERSION:2.0
PRODID:-//Sabre//Sabre VObject 4.5.8//EN
CALSCALE:GREGORIAN
BEGIN:VEVENT
UID:sabre-vobject-a0230def-4920-492a-afad-9f9e288e78de
DTSTAMP:20260425T213556Z
SUMMARY:Studienreise nach Schottland
DESCRIPTION:https://keb-neuburg-schrobenhausen.de/studienreise-nach-schottl
 and_id321862
DTSTART;TZID=Europe/Berlin:20260905T080000
DTEND;TZID=Europe/Berlin:20260911T200000
LOCATION:Pfarrsaal\, Im Tal 9\, 86529 Schrobenhausen
END:VEVENT
END:VCALENDAR
