BEGIN:VCALENDAR
VERSION:2.0
PRODID:-//Sabre//Sabre VObject 4.5.8//EN
CALSCALE:GREGORIAN
BEGIN:VEVENT
UID:sabre-vobject-f36bbf94-d914-4752-babb-4aaad107dd9a
DTSTAMP:20260420T201318Z
SUMMARY:Lebenscafe
DESCRIPTION:https://keb-neuburg-schrobenhausen.de/lebenscafe_id321868
DTSTART;TZID=Europe/Berlin:20260812T150000
LOCATION:Hospizverein Neuburg-Schrobenhausen e.V.\, Münchener Straße 15\,
  86633 Neuburg an der Donau
END:VEVENT
END:VCALENDAR
