BEGIN:VCALENDAR
VERSION:2.0
PRODID:-//Sabre//Sabre VObject 4.5.8//EN
CALSCALE:GREGORIAN
BEGIN:VEVENT
UID:sabre-vobject-ef4a6a9f-b205-4ad4-b061-c7a6de4929f2
DTSTAMP:20260420T031805Z
SUMMARY:Yin Yoga
DESCRIPTION:https://keb-neuburg-schrobenhausen.de/yin-yoga_id322867
DTSTART;TZID=Europe/Berlin:20260420T183000
DTEND;TZID=Europe/Berlin:20260420T200000
LOCATION:Leuchtturm GbR\, Bürgermeister-Stocker-Ring 38\, 86529 Schrobenha
 usen
END:VEVENT
END:VCALENDAR
