BEGIN:VCALENDAR
VERSION:2.0
PRODID:-//Sabre//Sabre VObject 4.5.8//EN
CALSCALE:GREGORIAN
BEGIN:VEVENT
UID:sabre-vobject-aef339cd-7a32-4315-94d3-8077900d09c7
DTSTAMP:20260424T061654Z
SUMMARY:Waldbaden
DESCRIPTION:https://keb-neuburg-schrobenhausen.de/waldbaden_id324592
DTSTART;TZID=Europe/Berlin:20260724T160000
LOCATION:Waldlehrpfad\, Pöttmeser Straße 0\, 86529 Schrobenhausen
END:VEVENT
END:VCALENDAR
