BEGIN:VCALENDAR
VERSION:2.0
PRODID:-//Sabre//Sabre VObject 4.5.8//EN
CALSCALE:GREGORIAN
BEGIN:VEVENT
UID:sabre-vobject-5c93a202-57a8-4425-81b6-cf7924e717a7
DTSTAMP:20260424T144829Z
SUMMARY:Pädagogische Besprechung von Erziehungsfragen
DESCRIPTION:https://keb-neuburg-schrobenhausen.de/paedagogische-besprechung
 -von-erziehungsfragen_id326181
DTSTART;TZID=Europe/Berlin:20260424T090000
DTEND;TZID=Europe/Berlin:20260424T103000
LOCATION:Pfarrheim\, Obermühlstraße 12\, 86529 Schrobenhausen
END:VEVENT
END:VCALENDAR
