BEGIN:VCALENDAR
VERSION:2.0
PRODID:-//Sabre//Sabre VObject 4.5.8//EN
CALSCALE:GREGORIAN
BEGIN:VEVENT
UID:sabre-vobject-d19f271f-abfd-4323-8125-36cf5195e7bc
DTSTAMP:20260425T153712Z
SUMMARY:Pädagogische Besprechung von Erziehungsfragen
DESCRIPTION:https://keb-neuburg-schrobenhausen.de/paedagogische-besprechung
 -von-erziehungsfragen_id327143
DTSTART;TZID=Europe/Berlin:20260427T000000
LOCATION:Pfarrheim Waidhofen\, Ringstraße 12\, 86579 Waidhofen
END:VEVENT
END:VCALENDAR
