BEGIN:VCALENDAR
VERSION:2.0
PRODID:-//Sabre//Sabre VObject 4.5.8//EN
CALSCALE:GREGORIAN
BEGIN:VEVENT
UID:sabre-vobject-713a0f44-a5da-41eb-bfee-4ec2c6cb33ea
DTSTAMP:20260425T145113Z
SUMMARY:Pädagogische Besprechung von Erziehungsfragen
DESCRIPTION:https://keb-neuburg-schrobenhausen.de/paedagogische-besprechung
 -von-erziehungsfragen_id328000
DTSTART;TZID=Europe/Berlin:20260427T090000
DTEND;TZID=Europe/Berlin:20260427T103000
LOCATION:Pfarrheim Waidhofen\, Ringstraße 12\, 86579 Waidhofen
END:VEVENT
END:VCALENDAR
