BEGIN:VCALENDAR
VERSION:2.0
PRODID:-//Sabre//Sabre VObject 4.5.8//EN
CALSCALE:GREGORIAN
BEGIN:VEVENT
UID:sabre-vobject-68ce9258-5e64-44be-9953-9b477d0e1144
DTSTAMP:20260425T192621Z
SUMMARY:Dialektforscher Anthony Rowley
DESCRIPTION:https://keb-neuburg-schrobenhausen.de/dialektforscher-anthony-r
 owley_id328593
DTSTART;TZID=Europe/Berlin:20260504T190000
LOCATION:Pfarrsaal St. Jakob\, Im Tal 9\, 86529 Schrobenhausen
END:VEVENT
END:VCALENDAR
